BEGIN:VCALENDAR
VERSION:2.0
PRODID:-//Hemmafronten - ECPv6.15.18//NONSGML v1.0//EN
CALSCALE:GREGORIAN
METHOD:PUBLISH
X-ORIGINAL-URL:https://hemmafronten.se
X-WR-CALDESC:Händelser för Hemmafronten
REFRESH-INTERVAL;VALUE=DURATION:PT1H
X-Robots-Tag:noindex
X-PUBLISHED-TTL:PT1H
BEGIN:VTIMEZONE
TZID:Europe/Stockholm
BEGIN:DAYLIGHT
TZOFFSETFROM:+0100
TZOFFSETTO:+0200
TZNAME:CEST
DTSTART:20250330T010000
END:DAYLIGHT
BEGIN:STANDARD
TZOFFSETFROM:+0200
TZOFFSETTO:+0100
TZNAME:CET
DTSTART:20251026T010000
END:STANDARD
BEGIN:DAYLIGHT
TZOFFSETFROM:+0100
TZOFFSETTO:+0200
TZNAME:CEST
DTSTART:20260329T010000
END:DAYLIGHT
BEGIN:STANDARD
TZOFFSETFROM:+0200
TZOFFSETTO:+0100
TZNAME:CET
DTSTART:20261025T010000
END:STANDARD
BEGIN:DAYLIGHT
TZOFFSETFROM:+0100
TZOFFSETTO:+0200
TZNAME:CEST
DTSTART:20270328T010000
END:DAYLIGHT
BEGIN:STANDARD
TZOFFSETFROM:+0200
TZOFFSETTO:+0100
TZNAME:CET
DTSTART:20271031T010000
END:STANDARD
END:VTIMEZONE
BEGIN:VEVENT
DTSTART;TZID=Europe/Stockholm:20260422T080000
DTEND;TZID=Europe/Stockholm:20260422T180000
DTSTAMP:20260420T144846
CREATED:20260406T170612Z
LAST-MODIFIED:20260407T213956Z
UID:423-1776844800-1776880800@hemmafronten.se
SUMMARY:Uppsala
DESCRIPTION:Guidad tur i Uppsala\, som går från 500-talet till nutid. \nFörst besöker vi Gamla Uppsala kyrka\, därefter domkyrkan\, slottet\, Gustavianum\, som har ett stort arkitektoniskt och kulturhistoriskt värde. Här finns också Uppsala konstmuseum. Vi gör en kortare promenad i de gamla delarna och avslutar med en tur i bussen genom de moderna delarna. \nFör att aktiviteten ska genomföras krävs minst 30 deltagare. \nPlats: Samling Cityterminalen\, vid gate Ericsson Seniorer kl. 8:15 \nAvresa: 8:30 från Cityterminalen \nHemkomst: Åter Cityterminalen ca 17:45 (trafikberoende) \nAvgift: 500 kr (inkl. anmälningsavgift 200 kr) \nAnmälan till föreningen senast: 22 mars\nVänligen ange specialkost! \nFri avbokning senast: 28 mars \n  \nAnsvariga: Anna Sernlind\, 073-037 09 04\noch Bengt Berglund\, 070-676 41 09.
URL:https://hemmafronten.se/event/uppsala/
LOCATION:Cityterminalen\, Klarabergsviadukten 72\, Stockholm\, Sweden
ATTACH;FMTTYPE=image/png:https://hemmafronten.se/wp-content/uploads/2026/04/Uppsala-1.png
END:VEVENT
BEGIN:VEVENT
DTSTART;TZID=Europe/Stockholm:20260504T113000
DTEND;TZID=Europe/Stockholm:20260504T143000
DTSTAMP:20260420T144846
CREATED:20260306T200827Z
LAST-MODIFIED:20260405T140552Z
UID:342-1777894200-1777905000@hemmafronten.se
SUMMARY:Vandring i Flemingbergsskogens naturreservat
DESCRIPTION:Vandringen går längs Gamla Sockenvägen i Huddinge och är cirka 6 km. Mestadels lättgånget men på några ställen skogsstig.\nVandringen avslutas med lunch på Sundby gård.\nStart och mål är inte på samma ställe!\nMer detaljerad beskrivning skickas ut en vecka före\nvandringen. \nPlats start: Visättra Sportcenter\, Kvarnängsvägen 12\, Huddinge\nResväg: Pendeltåg till Flemingsberg\, byte till buss 740 mot Björnkulla\, avstigning Visättra.\nPlats mål: Sundby gård\nAvgift: 125 kr\nAnmälan senast: 22/4\nAvbokning senast: 26/4\nAnsvarig: Gunnar Nyström\, 070 – 533 92 19
URL:https://hemmafronten.se/event/vandring-i-flemingbergsskogens-naturreservat/
LOCATION:Visättra sportcenter\, Kvarnängsvägen 12\, Huddinge
ATTACH;FMTTYPE=image/webp:https://hemmafronten.se/wp-content/uploads/2026/03/d28e44c60a91cb9f95b45e95b5624b9a.webp
END:VEVENT
BEGIN:VEVENT
DTSTART;TZID=Europe/Stockholm:20260507T170000
DTEND;TZID=Europe/Stockholm:20260507T210000
DTSTAMP:20260420T144846
CREATED:20250328T165402Z
LAST-MODIFIED:20260402T180538Z
UID:88-1778173200-1778187600@hemmafronten.se
SUMMARY:Vårfest
DESCRIPTION:Välkommen till vårfest med skön dansmusik till Happy Tunes och allsång!\nVälkomstdrink\, buffémiddag med två glas vin eller öl\, vatten samt kaffe med kaka.\nPlats: Hägerstensåsens Medborgarhus\, Riksdalervägen 2 Hägersten.\nResväg:  T-bana till Hägerstensåsen med utgång mot Hägerstensåsen eller buss 147 från Liljeholmen till Sedelvägen.\nAvgift: 350 kronor.\nAnmälan senast: 15/5.\nAvbokning senast: 19/5\nAnsvarig: Rickard Arrefelt\, 070-283 84 59.\nMarina Hellstrand\, 076-336 11 19
URL:https://hemmafronten.se/event/varfest/
LOCATION:Hägerstensåsens Medborgarhus\, Riksdalervägen 2\, Hägersten\, Sweden
ATTACH;FMTTYPE=image/png:https://hemmafronten.se/wp-content/uploads/2025/03/varfest.png
END:VEVENT
END:VCALENDAR